Workbook

Sheet Sheet1
A1: 2026年度项目立项审批情况汇总表
A2: 填写单位： | C2: 通城县发展和改革局 | M2: 单位：万元
A3: 序号 | B3: 建设单位名称 | C3: 建设项目名称 | D3: 建设地址 | E3: 建设单位法人 | F3: 主要建设内容 | G3: 建设性质 | H3: 计划总投资 | I3: 项目审批、核准、和备案情况 | L3: 项目联系人 | M3: 项目联系人电话 | N3: 政府机关 | O3: 建设工期 | P3: 备注
I4: 形式 | J4: 文号 | K4: 时间
A5: 1 | B5: 湖北瀛新精密电子有限公司 | C5: 智能小家电升级改造项目 | D5: 通城县经济开发区玉立大道555号 | E5: 黄梁 | F5: 该技改项目新增智能小家电生产线2条，购置切胶纸机、装减震垫/锁AC主电机、耐压测试仪、功率计/变频器等设备42台。 | G5: 技改及其他 | H5: 3000 | I5: 企业投资项目备案 | J5: 2601-421222-04-02-561072 | K5: 2026-01-04 | L5: 习富刚; | M5: 13339888305 | N5: 私营企业 | O5: 2026-01至2026-06
A6: 2 | B6: 通城晟新禹光伏科技有限公司 | C6: 湖北省咸宁市通城县关刀镇高冲村一组26号徐庆武屋顶光伏发电项目 | D6: 湖北省咸宁市通城县关刀镇高冲村一组26号 | E6: 朱存智 | F6: 该项目装机容量为44.53千瓦，占用屋顶面积160平方米，购置61块730W的光伏板，逆变器，并网箱及支架采用钢架相形式安装。 | G6: 新建 | H6: 12 | I6: 光伏发电项目备案 | J6: 2601-421222-04-05-724030 | K6: 2026-01-04 | L6: 王仲燕; | M6: 18871519330 | N6: 私营企业 | O6: 2026-01至2026-01
A7: 3 | B7: 通城晟新禹光伏科技有限公司 | C7: 湖北省咸宁市通城县关刀镇春雷村四组28号吴小九屋顶光伏发电项目 | D7: 湖北省咸宁市通城县关刀镇春雷村四组28号 | E7: 朱存智 | F7: 该项目装机容量为44.53千瓦，占用屋顶面积160平方米，购置61块730W的光伏板，逆变器，并网箱及支架采用钢架相形式安装。 | G7: 新建 | H7: 12 | I7: 光伏发电项目备案 | J7: 2601-421222-04-05-330353 | K7: 2026-01-04 | L7: 王仲燕; | M7: 18871519330 | N7: 私营企业 | O7: 2026-01至2026-01
A8: 4 | B8: 通城晟新禹光伏科技有限公司 | C8: 湖北省咸宁市通城县关刀镇春雷村三组34号王贤兵屋顶光伏发电项目 | D8: 湖北省咸宁市通城县关刀镇春雷村三组34号 | E8: 朱存智 | F8: 该项目装机容量为22.63千瓦，占用屋顶面积80平方米，购置31块730W的光伏板，逆变器，并网箱及支架采用钢架相形式安装。 | G8: 新建 | H8: 6 | I8: 光伏发电项目备案 | J8: 2601-421222-04-05-291440 | K8: 2026-01-04 | L8: 王仲燕; | M8: 18871519330 | N8: 私营企业 | O8: 2026-01至2026-01
A9: 5 | B9: 通城晟新禹光伏科技有限公司 | C9: 湖北省咸宁市通城县关刀镇里港村老街69号黄中秋屋顶光伏发电项目 | D9: 湖北省咸宁市通城县关刀镇里港村老街69号 | E9: 朱存智 | F9: 该项目装机容量为39.93千瓦，占用屋顶面积120平方米，购置41块730W的光伏板，逆变器，并网箱及支架采用钢架相形式安装。 | G9: 新建 | H9: 8 | I9: 光伏发电项目备案 | J9: 2601-421222-04-05-656611 | K9: 2026-01-04 | L9: 王仲燕; | M9: 18871519330 | N9: 私营企业 | O9: 2026-01至2026-01
A10: 6 | B10: 通城晟新禹光伏科技有限公司 | C10: 湖北省咸宁市通城县关刀镇官塘社区88号罗时明屋顶光伏发电项目 | D10: 湖北省咸宁市通城县关刀镇官塘社区88号 | E10: 朱存智 | F10: 该项目装机容量为35.77千瓦，占用屋顶面积130平方米，购置49块730W的光伏板，逆变器，并网箱及支架采用钢架相形式安装。 | G10: 新建 | H10: 9 | I10: 光伏发电项目备案 | J10: 2601-421222-04-05-619458 | K10: 2026-01-04 | L10: 王仲燕; | M10: 18871519330 | N10: 私营企业 | O10: 2026-01至2026-01
A11: 7 | B11: 通城晟新禹光伏科技有限公司 | C11: 湖北省咸宁市通城县石南镇樊店村二十组96号邱金龙屋顶光伏发电项目 | D11: 湖北省咸宁市通城县石南镇樊店村二十组96号 | E11: 朱存智 | F11: 该项目装机容量为47.45千瓦，占用屋顶面积120平方米，购置65块730W的光伏板，逆变器，并网箱及支架采用钢架相形式安装。 | G11: 新建 | H11: 13 | I11: 光伏发电项目备案 | J11: 2601-421222-04-05-682314 | K11: 2026-01-04 | L11: 王仲燕; | M11: 18871519330 | N11: 私营企业 | O11: 2026-01至2026-01
A12: 8 | B12: 通城晟新禹光伏科技有限公司 | C12: 湖北省咸宁市通城县沙堆镇坪坳村八组11号万大明屋顶光伏发电项目 | D12: 湖北省咸宁市通城县沙堆镇坪坳村八组11号 | E12: 朱存智 | F12: 该项目装机容量为43.8千瓦，占用屋顶面积160平方米，购置60块730W的光伏板，逆变器，并网箱及支架采用钢架相形式安装。 | G12: 新建 | H12: 12 | I12: 光伏发电项目备案 | J12: 2601-421222-04-05-991914 | K12: 2026-01-04 | L12: 王仲燕; | M12: 18871519330 | N12: 私营企业 | O12: 2026-01至2026-01
A13: 9 | B13: 通城晟新禹光伏科技有限公司 | C13: 湖北省咸宁市通城县关刀镇春雷村五组5-9号王健屋顶光伏发电项目 | D13: 湖北省咸宁市通城县关刀镇春雷村五组5-9号 | E13: 朱存智 | F13: 该项目装机容量为44.53千瓦，占用屋顶面积160平方米，购置61块730W的光伏板，逆变器，并网箱及支架采用钢架相形式安装。 | G13: 新建 | H13: 12 | I13: 光伏发电项目备案 | J13: 2601-421222-04-05-610813 | K13: 2026-01-04 | L13: 王仲燕; | M13: 18871519330 | N13: 私营企业 | O13: 2026-01至2026-01
A14: 10 | B14: 通城晟新禹光伏科技有限公司 | C14: 湖北省咸宁市通城县关刀镇春雷村三组88号聂华国屋顶光伏发电项目 | D14: 湖北省咸宁市通城县关刀镇春雷村三组88号 | E14: 朱存智 | F14: 该项目装机容量为47.45千瓦，占用屋顶面积170平方米，购置65块730W的光伏板，逆变器，并网箱及支架采用钢架相形式安装。 | G14: 新建 | H14: 13 | I14: 光伏发电项目备案 | J14: 2601-421222-04-05-359092 | K14: 2026-01-04 | L14: 王仲燕; | M14: 18871519330 | N14: 私营企业 | O14: 2026-01至2026-01
A15: 11 | B15: 通城晟新禹光伏科技有限公司 | C15: 湖北省咸宁市通城县大坪乡坪山村一组12号张艳屋顶光伏发电项目 | D15: 湖北省咸宁市通城县大坪乡坪山村一组12号 | E15: 朱存智 | F15: 该项目装机容量为51.83千瓦，占用屋顶面积180平方米，购置71块730W的光伏板，逆变器，并网箱及支架采用钢架相形式安装。 | G15: 新建 | H15: 14 | I15: 光伏发电项目备案 | J15: 2601-421222-04-05-560203 | K15: 2026-01-04 | L15: 王仲燕; | M15: 18871519330 | N15: 私营企业 | O15: 2026-01至2026-01
A16: 12 | B16: 通城晟新禹光伏科技有限公司 | C16: 湖北省咸宁市通城县隽水镇白沙社区五组56号万淼屋顶光伏发电项目 | D16: 湖北省咸宁市通城县隽水镇白沙社区五组56号 | E16: 朱存智 | F16: 该项目装机容量为41.61千瓦，占用屋顶面积160平方米，购置57块730W的光伏板，逆变器，并网箱及支架采用钢架相形式安装。 | G16: 新建 | H16: 11 | I16: 光伏发电项目备案 | J16: 2601-421222-04-05-769523 | K16: 2026-01-04 | L16: 王仲燕; | M16: 18871519330 | N16: 私营企业 | O16: 2026-01至2026-01
... A85: 81 | B85: 通城县城市管理执法局 | C85: 通城县城市公园广场基础设施更新工程 | D85: 通城县城区 | E85: 刘亚斌 | F85: 该项目涉及通城县隽水镇辖区内4座城市公园广场，具体为银山广场面积63900平方米（约95.85亩）、雁塔广场面积21000平方米（约31.5亩）、秀水公园面积104247平方米（约156.37亩）、滨河公园面积39000平方米（约58.5亩），工程建设围绕基础设施维修更新展开，重点实施五大类工程。 | G85: 改建 | H85: 2280 | I85: 政府投资项目可行性研究报告或实施方案审批 | J85: 隽发改审批〔2026〕3号 | K85: 2026-01-08 | L85: 何娟 | M85: 17364243900 | N85: 国有及国有控股企业 | O85: 2026-01至2026-12
A86: 82 | B86: 通城县隽丰农产品投资有限公司 | C86: 通城县农产品冷链物流节点建设项目 | D86: 通城县隽水镇、马港镇、北港镇、麦市镇、石南镇、塘湖镇、五里镇、四庄乡、关刀镇、大坪乡、沙堆镇。 | E86: 杨海兵 | F86: 本项目规划总用地面积21298㎡，总建筑面积12910㎡。其中新建农产品冷链物流信息平台建筑面积5368㎡（隽水镇），现有10个乡镇冷链物流交易中心改造，改造建筑面积共7542㎡，含采购冷链物流车辆50台，农产品检验检测设备一套，20套智能激光蔬菜分拣包装设备生产线及其它配套建设内容。 | G86: 改建 | H86: 12020.08 | I86: 政府投资项目可行性研究报告或实施方案审批 | J86: 隽发改审批〔2026〕4号 | K86: 2026-01-08 | L86: 黎旭 | M86: 18007244984 | N86: 国有及国有控股企业 | O86: 2026-04至2027-10
A87: 83 | B87: 通城晟新禹光伏科技有限公司 | C87: 通城晟新禹光伏科技有限公司湖北省咸宁市通城县关刀镇春雷村三组68号万寒屋顶光伏发电项目 | D87: 湖北省咸宁市通城县关刀镇春雷村三组68号 | E87: 朱存智 | F87: 该项目装机容量为60.06千瓦，占用屋顶面积125平方米，购置84块715的光伏板，逆变器，并网箱及支架采用钢架棚形式安装。 | G87: 新建 | H87: 20 | I87: 光伏发电项目备案 | J87: 2601-421222-04-01-671593 | K87: 2026-01-09 | L87: 黎林; | M87: 15757088508 | N87: 私营企业 | O87: 2026-01至2026-01
A88: 84 | B88: 通城晟新禹光伏科技有限公司 | C88: 通城晟新禹光伏科技有限公司湖北省咸宁市通城县大坪乡水口村六组28号吴胜刚屋顶光伏发电项目 | D88: 湖北省咸宁市通城县大坪乡水口村六组28号 | E88: 朱存智 | F88: 该项目装机容量为57.2千瓦，占用屋顶面积135平方米，购置80块715的光伏板，逆变器，并网箱及支架采用钢架棚形式安装。 | G88: 新建 | H88: 20 | I88: 光伏发电项目备案 | J88: 2601-421222-04-01-955402 | K88: 2026-01-09 | L88: 黎林; | M88: 15757088508 | N88: 私营企业 | O88: 2026-01至2026-01
A89: 85 | B89: 通城晟新禹光伏科技有限公司 | C89: 通城晟新禹光伏科技有限公司湖北省咸宁市通城县隽水镇石泉二组68号孔庆林屋顶光伏发电项目 | D89: 湖北省咸宁市通城县隽水镇石泉二组68号 | E89: 朱存智 | F89: 该项目装机容量为57.2千瓦，占用屋顶面积125平方米，购置80块715的光伏板，逆变器，并网箱及支架采用钢架棚形式安装。 | G89: 新建 | H89: 19.75 | I89: 光伏发电项目备案 | J89: 2601-421222-04-01-183304 | K89: 2026-01-09 | L89: 黎林; | M89: 15757088508 | N89: 私营企业 | O89: 2026-01至2026-01
A90: 86 | B90: 通城晟新禹光伏科技有限公司 | C90: 通城晟新禹光伏科技有限公司湖北省咸宁市通城县石南镇柏树村四组5号邓子龙屋顶光伏发电项目 | D90: 湖北省咸宁市通城县石南镇柏树村四组5号 | E90: 朱存智 | F90: 该项目装机容量为41.47千瓦，占用屋顶面积125平方米，购置58块715的光伏板，逆变器，并网箱及支架采用钢架棚形式安装。 | G90: 新建 | H90: 14.5 | I90: 光伏发电项目备案 | J90: 2601-421222-04-01-961606 | K90: 2026-01-09 | L90: 黎林; | M90: 15757088508 | N90: 私营企业 | O90: 2026-01至2026-01
A91: 87 | B91: 通城晟新禹光伏科技有限公司 | C91: 通城晟新禹光伏科技有限公司湖北省咸宁市通城县石南镇赛公村三组6号胡小珍屋顶光伏发电项目 | D91: 湖北省咸宁市通城县石南镇赛公村三组6号 | E91: 朱存智 | F91: 该项目装机容量为32.175千瓦，占用屋顶面积125平方米，购置45块715的光伏板，逆变器，并网箱及支架采用钢架棚形式安装。 | G91: 新建 | H91: 11.25 | I91: 光伏发电项目备案 | J91: 2601-421222-04-01-246301 | K91: 2026-01-09 | L91: 黎林; | M91: 15757088508 | N91: 私营企业 | O91: 2026-01至2026-01
A92: 88 | B92: 通城晟新禹光伏科技有限公司 | C92: 通城晟新禹光伏科技有限公司湖北省咸宁市通城县大坪乡达丰村一组59号胡来成屋顶光伏发电项目 | D92: 湖北省咸宁市通城县大坪乡达丰村一组59号 | E92: 朱存智 | F92: 该项目装机容量为43.615千瓦，占用屋顶面积125平方米，购置61块715的光伏板，逆变器，并网箱及支架采用钢架棚形式安装。 | G92: 新建 | H92: 15.25 | I92: 光伏发电项目备案 | J92: 2601-421222-04-01-861485 | K92: 2026-01-09 | L92: 黎林; | M92: 15757088508 | N92: 私营企业 | O92: 2026-01至2026-01
A93: 89 | B93: 通城晟新禹光伏科技有限公司 | C93: 通城晟新禹光伏科技有限公司湖北省咸宁市通城县大坪乡农林村八组17号陈浩屋顶光伏发电项目 | D93: 湖北省咸宁市通城县大坪乡农林村八组17号 | E93: 朱存智 | F93: 该项目装机容量为37.895千瓦，占用屋顶面积125平方米，购置53块715的光伏板，逆变器，并网箱及支架采用钢架棚形式安装。 | G93: 新建 | H93: 13.25 | I93: 光伏发电项目备案 | J93: 2601-421222-04-01-616984 | K93: 2026-01-09 | L93: 黎林; | M93: 15757088508 | N93: 私营企业 | O93: 2026-01至2026-01
A94: 90 | B94: 通城晟新禹光伏科技有限公司 | C94: 通城晟新禹光伏科技有限公司湖北省咸宁市通城县大坪乡农林村八组18号黎逢云屋顶光伏发电项目 | D94: 湖北省咸宁市通城县大坪乡农林村八组18号 | E94: 朱存智 | F94: 该项目装机容量为42.9千瓦，占用屋顶面积125平方米，购置60块715的光伏板，逆变器，并网箱及支架采用钢架棚形式安装。 | G94: 新建 | H94: 15 | I94: 光伏发电项目备案 | J94: 2601-421222-04-01-224360 | K94: 2026-01-09 | L94: 黎林; | M94: 15757088508 | N94: 私营企业 | O94: 2026-01至2026-01
A95: 91 | B95: 通城晟新禹光伏科技有限公司 | C95: 通城晟新禹光伏科技有限公司湖北省咸宁市通城县五里镇左港村二组26号胡雄甫屋顶光伏发电项目 | D95: 湖北省咸宁市通城县五里镇左港村二组26号 | E95: 朱存智 | F95: 该项目装机容量为22.88千瓦，占用屋顶面积125平方米，购置32块715的光伏板，逆变器，并网箱及支架采用钢架棚形式安装。 | G95: 新建 | H95: 8 | I95: 光伏发电项目备案 | J95: 2601-421222-04-01-585048 | K95: 2026-01-09 | L95: 黎林; | M95: 15757088508 | N95: 私营企业 | O95: 2026-01至2026-01
A96: 92 | B96: 通城晟新禹光伏科技有限公司 | C96: 通城晟新禹光伏科技有限公司湖北省咸宁市通城县四庄乡寺背村七组38号万仲彬屋顶光伏发电项目 | D96: 湖北省咸宁市通城县四庄乡寺背村七组38号 | E96: 朱存智 | F96: 该项目装机容量为28.6千瓦，占用屋顶面积125平方米，购置40块715的光伏板，逆变器，并网箱及支架采用钢架棚形式安装。 | G96: 新建 | H96: 10 | I96: 光伏发电项目备案 | J96: 2601-421222-04-01-230706 | K96: 2026-01-09 | L96: 黎林; | M96: 15757088508 | N96: 私营企业 | O96: 2026-01至2026-01
A97: 93 | B97: 湖北壹威电子科技有限公司 | C97: 壹威电子NTC热敏电阻建设项目 | D97: 通城坪山孵化园二期 | E97: 黎威 | F97: 该项目规划总用地面积4000平方米，总建筑面积17334.24平方米。主要生产NTC热敏电阻，建设NTC热敏电阻单端玻封生产线15条，二极管生产线5条，环氧电阻生产线5条。 | G97: 迁建 | H97: 10000 | I97: 企业投资项目备案 | J97: 2601-421222-04-01-322479 | K97: 2026-01-09 | L97: 吴奔; | M97: 18218887925 | N97: 私营企业 | O97: 2026-01至2026-05
A98: 94 | B98: 通城晟新禹光伏科技有限公司 | C98: 湖北省咸宁市通城县关刀镇五流村十四组14-9号金先明屋顶光伏发电项目 | D98: 湖北省咸宁市通城县关刀镇五流村十四组14-9号 | E98: 朱存智 | F98: 该项目装机容量为36.5千瓦，占用屋顶面积130平方米，购置50块730W的光伏板，逆变器，并网箱及支架采用钢架相形式安装。 | G98: 新建 | H98: 10 | I98: 光伏发电项目备案 | J98: 2601-421222-04-05-376786 | K98: 2026-01-09 | L98: 王仲燕; | M98: 18871519330 | N98: 私营企业 | O98: 2026-01至2026-01
... A104: 100 | B104: 通城县博庭新能源科技有限公司 | C104: 通城县 隽水镇下阔村一组64号 宋细桃 分布式屋顶光伏发电项目 | D104: 通城县 隽水镇下阔村一组64号 | E104: 陈红梅 | F104: 该项目装机容量为39.60千瓦，占用房顶面积180平方米，购置55块720瓦光伏板，逆变器，并网箱及支架，采用钢架棚形式安装。 | G104: 新建 | H104: 9.93 | I104: 光伏发电项目备案 | J104: 2601-421222-04-01-192602 | K104: 2026-01-09 | L104: 黄荣; | M104: 15997954307 | N104: 私营企业 | O104: 2026-01至2026-01
A105: 101 | B105: 通城县妇幼保健计划生育服务中心 | C105: 通城县妇幼保健院托育中心项目 | D105: 通城县隽水镇古龙社区四组 | E105: 汪华友 | F105: 该项目总占地面积15096.00平方米，总建筑面积10182.82平方米，具体建设内容如下： （一）新建托育服务用房3200平方米，建设托位150个，开设乳儿班、托大班、托小班； （二）新建托育从业人员培训用房3082.82平方米，包含培训所需的硬软件、多媒体教室、实训室、报告厅培训中心、远程教室等； （三）新建托育产品研发和标准设计用房600平方米，包含研发室、标准设计室、模拟体验室、产品展示厅； （四）新建婴幼儿早期发展用房2000平方米，包含早期发展指导中心、营养膳食指导室、婴幼儿情景体验区互联网家长课堂等； （五）新建综合监控用房及综合辅助用房1300平方米，包含监控管理室、信息机房、存储室等； （六）建设绿化、停车场（含地下）、给排水、用电、消防等附属配套工程。 | G105: 新建 | H105: 5051.08 | I105: 政府投资项目初步设计审批 | J105: 隽发改审批【2025】486号 | K105: 2026-01-09 | L105: 葛四平 | M105: 13476910277 | N105: 事业单位 | O105: 2026-05至2027-11
A106: 102 | B106: 通城县妇幼保健计划生育服务中心 | C106: 通城县妇幼保健院托育中心项目 | D106: 通城县隽水镇古龙社区四组 | E106: 汪华友 | F106: 该项目总占地面积15096.00平方米，总建筑面积10182.82平方米，具体建设内容如下： （一）新建托育服务用房3200平方米，建设托位150个，开设乳儿班、托大班、托小班； （二）新建托育从业人员培训用房3082.82平方米，包含培训所需的硬软件、多媒体教室、实训室、报告厅培训中心、远程教室等； （三）新建托育产品研发和标准设计用房600平方米，包含研发室、标准设计室、模拟体验室、产品展示厅； （四）新建婴幼儿早期发展用房2000平方米，包含早期发展指导中心、营养膳食指导室、婴幼儿情景体验区互联网家长课堂等； （五）新建综合监控用房及综合辅助用房1300平方米，包含监控管理室、信息机房、存储室等； （六）建设绿化、停车场（含地下）、给排水、用电、消防等附属配套工程。 | G106: 新建 | H106: 5051.08 | I106: 政府投资项目可行性研究报告或实施方案审批 | J106: 隽发改审批【2025】169号 | K106: 2026-01-09 | L106: 葛四平 | M106: 13476910277 | N106: 事业单位 | O106: 2026-05至2027-11
A107: 103 | B107: 湖北知青书院生态农业发展有限公司 | C107: 龙背山1号飞行营地基础设施建设项目 | D107: 通城县塘湖镇狼荷村 | E107: 刘辉雄 | F107: 总用地面积：141.24亩,总建筑面积：6200平方米。主要建设：道路建设（含路基、路面、刷黑、附属设施等）、树木种植（含苗木采购、种植、养护及配套绿化设施）。 | G107: 新建 | H107: 7500 | I107: 企业投资项目备案 | J107: 2601-421222-04-01-723209 | K107: 2026-01-09 | L107: 葛凌宇; | M107: 15027366749 | N107: 私营企业 | O107: 2026-01至2026-07
A108: 104 | B108: 通城晟新禹光伏科技有限公司 | C108: 通城晟新禹光伏科技有限公司湖北省咸宁市通城县五里镇金塘村三组2号李火来屋顶光伏发电项目 | D108: 湖北省咸宁市通城县五里镇金塘村三组2号 | E108: 朱存智 | F108: 该项目装机容量为39.42千瓦，占用屋顶面积125平方米，购置54块730的光伏板，逆变器，并网箱及支架采用钢架棚形式安装 | G108: 新建 | H108: 14 | I108: 光伏发电项目备案 | J108: 2601-421222-04-01-863500 | K108: 2026-01-10 | L108: 徐玲; | M108: 15926934391 | N108: 私营企业 | O108: 2026-01至2026-01
A109: 105 | B109: 通城晟新禹光伏科技有限公司 | C109: 通城晟新禹光伏科技有限公司湖北省咸宁市通城县隽水镇和平社区民主路2号付霞屋顶光伏发电项目 | D109: 湖北省咸宁市通城县隽水镇和平社区民主路2号 | E109: 朱存智 | F109: 该项目装机容量为32.12千瓦，占用屋顶面积125平方米，购置44块730的光伏板，逆变器，并网箱及支架采用钢架棚形式安装。 | G109: 新建 | H109: 11 | I109: 光伏发电项目备案 | J109: 2601-421222-04-01-645892 | K109: 2026-01-10 | L109: 徐玲; | M109: 15926934391 | N109: 私营企业 | O109: 2026-01至2026-01
A110: 106 | B110: 通城晟新禹光伏科技有限公司 | C110: 通城晟新禹光伏科技有限公司湖北省咸宁市通城县麦市镇三岔街22号葛玉尧屋顶光伏发电项目 | D110: 湖北省咸宁市通城县麦市镇三岔街22号 | E110: 朱存智 | F110: 该项目装机容量为49.64千瓦，占用屋顶面积125平方米，购置68块730的光伏板，逆变器，并网箱及支架采用钢架棚形式安装。 | G110: 新建 | H110: 17 | I110: 光伏发电项目备案 | J110: 2601-421222-04-01-328426 | K110: 2026-01-10 | L110: 徐玲; | M110: 15926934391 | N110: 私营企业 | O110: 2026-01至2026-01
A111: 107 | B111: 通城晟新禹光伏科技有限公司 | C111: 通城晟新禹光伏科技有限公司湖北省咸宁市通城县麦市镇七里村六组38号郑平屋顶光伏发电项目 | D111: 湖北省咸宁市通城县麦市镇七里村六组38号 | E111: 朱存智 | F111: 该项目装机容量为21.45千瓦，占用屋顶面积125平方米，购置30块715的光伏板，逆变器，并网箱及支架采用钢架棚形式安装。 | G111: 新建 | H111: 8 | I111: 光伏发电项目备案 | J111: 2601-421222-04-01-174328 | K111: 2026-01-10 | L111: 徐玲; | M111: 15926934391 | N111: 私营企业 | O111: 2026-01至2026-01
A112: 108 | B112: 通城县教育中心 | C112: 通城县职业技术教育中心产教融合第三期工程 | D112: 通城县隽水镇黄源路47号西南 | E112: 张添翼 | F112: 新征土地33亩，总建筑面积37586平方米。主要建设内容为：新建1栋实训综合楼（理实一体化教学楼、健康与养老实训楼、汽修专业实训楼），建筑面积14100平方米；新建图书馆1栋，建筑面积4850平方米；新建学生宿舍和教师周转房，建筑面积10500平方米；新建门卫室136平方米；扩建食堂2000平方米；地下室建筑面积6000平方米（其中，人防工程建筑面积2700平方米，停车场及设备用房建筑面积3300平方米）。 配套建设汽修专业实训基地3300平方米，灯光球场900平方米；围墙、排水排污、道路及刷黑、强弱电、绿化等。 购置电子商务等11个专业实训室教育教学设施设备约1600台（件），购置多媒体教学设备148套（含智慧黑板28块、智能物联教学终端120套）；配置录播系统5套、VR虚拟仿真实训设备4套；配置图书馆自助借还设备2台及数字阅览室设备1套；建设数字化教学资源库1套；配置教学管理软件系统5套（含教务管理、教师服务、家校沟通、图书馆管理、教师档案管理）、校园统一管理平台1套；配置教学辅助工具5套（含备课、作业批改、学业评测、心理健康测评、虚拟实验）；升级校园安防系统1套，整合监控点位12 | G112: 新建 | H112: 17507.48 | I112: 政府投资项目可行性研究报告或实施方案审批 | J112: 隽发改审批【2026】28号 | K112: 2026-01-30 | L112: 徐良 | M112: 18607244167 | N112: 事业单位 | O112: 2026-04至2028-10
A113: 109 | B113: 何金辉 | C113: 湖北省咸宁市通城县马港镇界上村五组黎红裕屋顶光伏发电项目 | D113: 马港镇界上村五组 | E113: 何金辉 | F113: 该项目装机容量为32.13kwp，占用屋顶面积平方米，购置54块595瓦光伏板，逆变器并网箱及支架，采用钢架棚形式安装。 | G113: 新建 | H113: 12.85 | I113: 光伏发电项目备案 | J113: 2601-421222-04-05-357652 | K113: 2026-01-30 | L113: 何金辉 | M113: 19071333888 | N113: 个人 | O113: 2026-01至2026-01
...

Sheet Sheet3

Sheet Sheet2
N3444: 430682196810110514
K3470: 7.1 | M3470: 13652689433 | N3470: 430682199906204017 | P3470: 2023.07-2023.07
B3471: 杨小怡 | D3471: 通城县马港镇黄鹤村三组杨小怡屋顶 | E3471: 杨小怡 | H3471: 16 | J3471: 2307-421222-04-01-262692 | K3471: 7.1 | L3471: 孙二发 | M3471: 18771304771 | N3471: 1.306282e+17 | P3471: 2023.07-2023.07
B3472: 胡家伟 | C3472: 通城县大坪乡大坪村二组16号胡家伟屋顶光伏发电项目 | D3472: 通城县大坪乡大坪村二组16号 | E3472: 胡家伟 | F3472: 该项目装机容量为24.525千瓦，占用房顶面积115平方米购置45块545瓦光伏板逆变器并网箱及支架，采用钢架棚形式安装。 | H3472: 9 | J3472: 2307-421222-04-01-736568 | K3472: 7.1 | L3472: 钟李仁 | M3472: 13652689433 | N3472: 4.306822e+17 | P3472: 2023.07-2023.07
B3473: 熊治国 | C3473: 通城县马港镇黄鹤村三组熊治国屋顶光伏发电项目 | D3473: 通城县马港镇黄鹤村三组熊治国屋顶 | E3473: 熊治国 | F3473: 该项目装机容量为39.3千瓦，占用屋顶面积180平方米，购置60块655瓦光伏板，逆变器，并网箱及支架，采用钢架棚形式安装。 | H3473: 15 | J3473: 2307-421222-04-01-412068 | K3473: 7.1 | L3473: 孙二发 | M3473: 18771304771 | N3473: 1.306282e+17 | P3473: 2023.07-2023.07
B3474: 胡银球 | C3474: 通城县大坪乡大坪村二组17号胡银球屋顶光伏发电项目 | D3474: 通城县大坪乡大坪村二组17号 | E3474: 胡银球 | F3474: 该项目装机容量为23.98千瓦，占用房顶面积109平方米购置44块545瓦光伏板逆变器并网箱及支架，采用钢架棚形式安装。 | H3474: 9 | J3474: 2307-421222-04-01-239325 | K3474: 7.1 | L3474: 钟李仁 | M3474: 13652689433 | N3474: 4.306822e+17 | P3474: 2023.07-2023.07
B3475: 易神安 | C3475: 通城县大坪乡草鞋村二组1号易神安屋顶光伏发电项目 | D3475: 大坪乡草鞋村二组 | E3475: 易神安 | F3475: 该项目装机容量为39.6千瓦，占用房顶面积125平方米，购置72块550瓦光伏板、采用平屋顶-膨胀螺栓固定形式安装 | H3475: 12 | J3475: 2307-421222-04-05-468538 | K3475: 7.1 | L3475: 何燕飞 | M3475: 17612703954 | N3475: 4.212222e+17 | P3475: 2023.07-2023.08
B3476: 胡荣 | C3476: 通城县大坪乡辉煌村二组22号胡荣屋顶光伏发电项目 | D3476: 通城县大坪乡辉煌村二组22号 | E3476: 胡荣 | F3476: 该项目装机容量为35.97千瓦，占用房顶面积164平方米购置66块545瓦光伏板逆变器并网箱及支架，采用钢架棚形式安装。 | H3476: 13 | J3476: 2307-421222-04-01-416472 | K3476: 7.1 | L3476: 钟李仁 | M3476: 13652689433 | N3476: 4.306822e+17 | P3476: 2023.07-2023.08

Sheet Sheet4
